BEGIN:VCALENDAR
VERSION:2.0
BEGIN:VEVENT
UID:58178625-8624-4515-5451-000000009074
SUMMARY:Schadstoffe (Bringsystem)
DESCRIPTION;ENCODING=QUOTED-PRINTABLE:Schadstoffe (Bringsystem) ist eine Regelabfuhr, eine Anmeldung ist nicht erforderlich.
DTSTART:20260504
DTEND:20260505
END:VEVENT
BEGIN:VEVENT
UID:58178625-8624-4515-5451-000000009075
SUMMARY:Schadstoffe (Bringsystem)
DESCRIPTION;ENCODING=QUOTED-PRINTABLE:Schadstoffe (Bringsystem) ist eine Regelabfuhr, eine Anmeldung ist nicht erforderlich.
DTSTART:20260720
DTEND:20260721
END:VEVENT
BEGIN:VEVENT
UID:58178625-8624-4515-5451-000000009076
SUMMARY:Schadstoffe (Bringsystem)
DESCRIPTION;ENCODING=QUOTED-PRINTABLE:Schadstoffe (Bringsystem) ist eine Regelabfuhr, eine Anmeldung ist nicht erforderlich.
DTSTART:20260831
DTEND:20260901
END:VEVENT
BEGIN:VEVENT
UID:58178625-8624-4515-5451-000000009077
SUMMARY:Schadstoffe (Bringsystem)
DESCRIPTION;ENCODING=QUOTED-PRINTABLE:Schadstoffe (Bringsystem) ist eine Regelabfuhr, eine Anmeldung ist nicht erforderlich.
DTSTART:20261102
DTEND:20261103
END:VEVENT
BEGIN:VEVENT
UID:58178625-8624-4515-5451-000000009311
SUMMARY:Reststoffe
DESCRIPTION;ENCODING=QUOTED-PRINTABLE:Reststoffe ist eine Regelabfuhr, eine Anmeldung ist nicht erforderlich.
DTSTART:20260515
DTEND:20260516
END:VEVENT
BEGIN:VEVENT
UID:58178625-8624-4515-5451-000000009312
SUMMARY:Reststoffe
DESCRIPTION;ENCODING=QUOTED-PRINTABLE:Reststoffe ist eine Regelabfuhr, eine Anmeldung ist nicht erforderlich.
DTSTART:20260612
DTEND:20260613
END:VEVENT
BEGIN:VEVENT
UID:58178625-8624-4515-5451-000000009313
SUMMARY:Reststoffe
DESCRIPTION;ENCODING=QUOTED-PRINTABLE:Reststoffe ist eine Regelabfuhr, eine Anmeldung ist nicht erforderlich.
DTSTART:20260710
DTEND:20260711
END:VEVENT
BEGIN:VEVENT
UID:58178625-8624-4515-5451-000000009314
SUMMARY:Reststoffe
DESCRIPTION;ENCODING=QUOTED-PRINTABLE:Reststoffe ist eine Regelabfuhr, eine Anmeldung ist nicht erforderlich.
DTSTART:20260807
DTEND:20260808
END:VEVENT
BEGIN:VEVENT
UID:58178625-8624-4515-5451-000000009315
SUMMARY:Reststoffe
DESCRIPTION;ENCODING=QUOTED-PRINTABLE:Reststoffe ist eine Regelabfuhr, eine Anmeldung ist nicht erforderlich.
DTSTART:20260904
DTEND:20260905
END:VEVENT
BEGIN:VEVENT
UID:58178625-8624-4515-5451-000000009316
SUMMARY:Reststoffe
DESCRIPTION;ENCODING=QUOTED-PRINTABLE:Reststoffe ist eine Regelabfuhr, eine Anmeldung ist nicht erforderlich.
DTSTART:20261002
DTEND:20261003
END:VEVENT
BEGIN:VEVENT
UID:58178625-8624-4515-5451-000000009317
SUMMARY:Reststoffe
DESCRIPTION;ENCODING=QUOTED-PRINTABLE:Reststoffe ist eine Regelabfuhr, eine Anmeldung ist nicht erforderlich.
DTSTART:20261030
DTEND:20261031
END:VEVENT
BEGIN:VEVENT
UID:58178625-8624-4515-5451-000000009318
SUMMARY:Reststoffe
DESCRIPTION;ENCODING=QUOTED-PRINTABLE:Reststoffe ist eine Regelabfuhr, eine Anmeldung ist nicht erforderlich.
DTSTART:20261127
DTEND:20261128
END:VEVENT
BEGIN:VEVENT
UID:58178625-8624-4515-5451-000000009319
SUMMARY:Reststoffe
DESCRIPTION;ENCODING=QUOTED-PRINTABLE:Reststoffe ist eine Regelabfuhr, eine Anmeldung ist nicht erforderlich.
DTSTART:20261225
DTEND:20261226
END:VEVENT
BEGIN:VEVENT
UID:58178625-8624-4515-5451-000000009389
SUMMARY:Papier/Pappe
DESCRIPTION;ENCODING=QUOTED-PRINTABLE:Papier/Pappe ist eine Regelabfuhr, eine Anmeldung ist nicht erforderlich.
DTSTART:20260502
DTEND:20260503
END:VEVENT
BEGIN:VEVENT
UID:58178625-8624-4515-5451-000000009146
SUMMARY:Papier/Pappe
DESCRIPTION;ENCODING=QUOTED-PRINTABLE:Papier/Pappe ist eine Regelabfuhr, eine Anmeldung ist nicht erforderlich.
DTSTART:20260530
DTEND:20260531
END:VEVENT
BEGIN:VEVENT
UID:58178625-8624-4515-5451-000000009147
SUMMARY:Papier/Pappe
DESCRIPTION;ENCODING=QUOTED-PRINTABLE:Papier/Pappe ist eine Regelabfuhr, eine Anmeldung ist nicht erforderlich.
DTSTART:20260626
DTEND:20260627
END:VEVENT
BEGIN:VEVENT
UID:58178625-8624-4515-5451-000000009148
SUMMARY:Papier/Pappe
DESCRIPTION;ENCODING=QUOTED-PRINTABLE:Papier/Pappe ist eine Regelabfuhr, eine Anmeldung ist nicht erforderlich.
DTSTART:20260724
DTEND:20260725
END:VEVENT
BEGIN:VEVENT
UID:58178625-8624-4515-5451-000000009149
SUMMARY:Papier/Pappe
DESCRIPTION;ENCODING=QUOTED-PRINTABLE:Papier/Pappe ist eine Regelabfuhr, eine Anmeldung ist nicht erforderlich.
DTSTART:20260821
DTEND:20260822
END:VEVENT
BEGIN:VEVENT
UID:58178625-8624-4515-5451-000000009150
SUMMARY:Papier/Pappe
DESCRIPTION;ENCODING=QUOTED-PRINTABLE:Papier/Pappe ist eine Regelabfuhr, eine Anmeldung ist nicht erforderlich.
DTSTART:20260918
DTEND:20260919
END:VEVENT
BEGIN:VEVENT
UID:58178625-8624-4515-5451-000000009151
SUMMARY:Papier/Pappe
DESCRIPTION;ENCODING=QUOTED-PRINTABLE:Papier/Pappe ist eine Regelabfuhr, eine Anmeldung ist nicht erforderlich.
DTSTART:20261016
DTEND:20261017
END:VEVENT
BEGIN:VEVENT
UID:58178625-8624-4515-5451-000000009152
SUMMARY:Papier/Pappe
DESCRIPTION;ENCODING=QUOTED-PRINTABLE:Papier/Pappe ist eine Regelabfuhr, eine Anmeldung ist nicht erforderlich.
DTSTART:20261113
DTEND:20261114
END:VEVENT
BEGIN:VEVENT
UID:58178625-8624-4515-5451-000000009153
SUMMARY:Papier/Pappe
DESCRIPTION;ENCODING=QUOTED-PRINTABLE:Papier/Pappe ist eine Regelabfuhr, eine Anmeldung ist nicht erforderlich.
DTSTART:20261211
DTEND:20261212
END:VEVENT
BEGIN:VEVENT
UID:58178625-8624-4515-5451-000000008761
SUMMARY:Altholz
DESCRIPTION:Altholz ist ein anmeldepflichtiger Abfuhrtermin.\nDie Anmeldefrist für diesen Termin endet am 16.04.2026.\nAnmeldung zum Abfuhrtermin für die Straße "Siegener Straße" unter der URL: http://lennestadt.abfuhrtermine.info/orders/add/date_id:8761/sorting_id:32/street_id:3494
DTSTART:20260422
DTEND:20260423
END:VEVENT
BEGIN:VEVENT
UID:58178625-8624-4515-5451-000000008762
SUMMARY:Altholz
DESCRIPTION:Altholz ist ein anmeldepflichtiger Abfuhrtermin.\nDie Anmeldefrist für diesen Termin endet am 11.06.2026.\nAnmeldung zum Abfuhrtermin für die Straße "Siegener Straße" unter der URL: http://lennestadt.abfuhrtermine.info/orders/add/date_id:8762/sorting_id:32/street_id:3494
DTSTART:20260617
DTEND:20260618
END:VEVENT
BEGIN:VEVENT
UID:58178625-8624-4515-5451-000000008763
SUMMARY:Altholz
DESCRIPTION:Altholz ist ein anmeldepflichtiger Abfuhrtermin.\nDie Anmeldefrist für diesen Termin endet am 06.08.2026.\nAnmeldung zum Abfuhrtermin für die Straße "Siegener Straße" unter der URL: http://lennestadt.abfuhrtermine.info/orders/add/date_id:8763/sorting_id:32/street_id:3494
DTSTART:20260812
DTEND:20260813
END:VEVENT
BEGIN:VEVENT
UID:58178625-8624-4515-5451-000000008764
SUMMARY:Altholz
DESCRIPTION:Altholz ist ein anmeldepflichtiger Abfuhrtermin.\nDie Anmeldefrist für diesen Termin endet am 01.10.2026.\nAnmeldung zum Abfuhrtermin für die Straße "Siegener Straße" unter der URL: http://lennestadt.abfuhrtermine.info/orders/add/date_id:8764/sorting_id:32/street_id:3494
DTSTART:20261007
DTEND:20261008
END:VEVENT
BEGIN:VEVENT
UID:58178625-8624-4515-5451-000000008765
SUMMARY:Altholz
DESCRIPTION:Altholz ist ein anmeldepflichtiger Abfuhrtermin.\nDie Anmeldefrist für diesen Termin endet am 10.12.2026.\nAnmeldung zum Abfuhrtermin für die Straße "Siegener Straße" unter der URL: http://lennestadt.abfuhrtermine.info/orders/add/date_id:8765/sorting_id:32/street_id:3494
DTSTART:20261216
DTEND:20261217
END:VEVENT
BEGIN:VEVENT
UID:58178625-8624-4515-5451-000000008786
SUMMARY:Restsperrgut
DESCRIPTION:Restsperrgut ist ein anmeldepflichtiger Abfuhrtermin.\nDie Anmeldefrist für diesen Termin endet am 06.05.2026.\nAnmeldung zum Abfuhrtermin für die Straße "Siegener Straße" unter der URL: http://lennestadt.abfuhrtermine.info/orders/add/date_id:8786/sorting_id:33/street_id:3494
DTSTART:20260512
DTEND:20260513
END:VEVENT
BEGIN:VEVENT
UID:58178625-8624-4515-5451-000000008787
SUMMARY:Restsperrgut
DESCRIPTION:Restsperrgut ist ein anmeldepflichtiger Abfuhrtermin.\nDie Anmeldefrist für diesen Termin endet am 02.07.2026.\nAnmeldung zum Abfuhrtermin für die Straße "Siegener Straße" unter der URL: http://lennestadt.abfuhrtermine.info/orders/add/date_id:8787/sorting_id:33/street_id:3494
DTSTART:20260708
DTEND:20260709
END:VEVENT
BEGIN:VEVENT
UID:58178625-8624-4515-5451-000000008788
SUMMARY:Restsperrgut
DESCRIPTION:Restsperrgut ist ein anmeldepflichtiger Abfuhrtermin.\nDie Anmeldefrist für diesen Termin endet am 27.08.2026.\nAnmeldung zum Abfuhrtermin für die Straße "Siegener Straße" unter der URL: http://lennestadt.abfuhrtermine.info/orders/add/date_id:8788/sorting_id:33/street_id:3494
DTSTART:20260902
DTEND:20260903
END:VEVENT
BEGIN:VEVENT
UID:58178625-8624-4515-5451-000000008789
SUMMARY:Restsperrgut
DESCRIPTION:Restsperrgut ist ein anmeldepflichtiger Abfuhrtermin.\nDie Anmeldefrist für diesen Termin endet am 28.10.2026.\nAnmeldung zum Abfuhrtermin für die Straße "Siegener Straße" unter der URL: http://lennestadt.abfuhrtermine.info/orders/add/date_id:8789/sorting_id:33/street_id:3494
DTSTART:20261103
DTEND:20261104
END:VEVENT
BEGIN:VEVENT
UID:58178625-8624-4515-5451-000000009374
SUMMARY:Metall- und Elektroschrott
DESCRIPTION:Metall- und Elektroschrott ist ein anmeldepflichtiger Abfuhrtermin.\nDie Anmeldefrist für diesen Termin endet am 01.07.2026.\nAnmeldung zum Abfuhrtermin für die Straße "Siegener Straße" unter der URL: http://lennestadt.abfuhrtermine.info/orders/add/date_id:9374/sorting_id:34/street_id:3494
DTSTART:20260707
DTEND:20260708
END:VEVENT
BEGIN:VEVENT
UID:58178625-8624-4515-5451-000000009375
SUMMARY:Metall- und Elektroschrott
DESCRIPTION:Metall- und Elektroschrott ist ein anmeldepflichtiger Abfuhrtermin.\nDie Anmeldefrist für diesen Termin endet am 02.09.2026.\nAnmeldung zum Abfuhrtermin für die Straße "Siegener Straße" unter der URL: http://lennestadt.abfuhrtermine.info/orders/add/date_id:9375/sorting_id:34/street_id:3494
DTSTART:20260908
DTEND:20260909
END:VEVENT
BEGIN:VEVENT
UID:58178625-8624-4515-5451-000000009376
SUMMARY:Metall- und Elektroschrott
DESCRIPTION:Metall- und Elektroschrott ist ein anmeldepflichtiger Abfuhrtermin.\nDie Anmeldefrist für diesen Termin endet am 11.11.2026.\nAnmeldung zum Abfuhrtermin für die Straße "Siegener Straße" unter der URL: http://lennestadt.abfuhrtermine.info/orders/add/date_id:9376/sorting_id:34/street_id:3494
DTSTART:20261117
DTEND:20261118
END:VEVENT
BEGIN:VEVENT
UID:58178625-8624-4515-5451-000000009278
SUMMARY:Bioabfälle
DESCRIPTION;ENCODING=QUOTED-PRINTABLE:Bioabfälle ist eine Regelabfuhr, eine Anmeldung ist nicht erforderlich.
DTSTART:20260424
DTEND:20260425
END:VEVENT
BEGIN:VEVENT
UID:58178625-8624-4515-5451-000000009279
SUMMARY:Bioabfälle
DESCRIPTION;ENCODING=QUOTED-PRINTABLE:Bioabfälle ist eine Regelabfuhr, eine Anmeldung ist nicht erforderlich.
DTSTART:20260508
DTEND:20260509
END:VEVENT
BEGIN:VEVENT
UID:58178625-8624-4515-5451-000000009280
SUMMARY:Bioabfälle
DESCRIPTION;ENCODING=QUOTED-PRINTABLE:Bioabfälle ist eine Regelabfuhr, eine Anmeldung ist nicht erforderlich.
DTSTART:20260516
DTEND:20260517
END:VEVENT
BEGIN:VEVENT
UID:58178625-8624-4515-5451-000000009281
SUMMARY:Bioabfälle
DESCRIPTION;ENCODING=QUOTED-PRINTABLE:Bioabfälle ist eine Regelabfuhr, eine Anmeldung ist nicht erforderlich.
DTSTART:20260522
DTEND:20260523
END:VEVENT
BEGIN:VEVENT
UID:58178625-8624-4515-5451-000000009282
SUMMARY:Bioabfälle
DESCRIPTION;ENCODING=QUOTED-PRINTABLE:Bioabfälle ist eine Regelabfuhr, eine Anmeldung ist nicht erforderlich.
DTSTART:20260530
DTEND:20260531
END:VEVENT
BEGIN:VEVENT
UID:58178625-8624-4515-5451-000000009283
SUMMARY:Bioabfälle
DESCRIPTION;ENCODING=QUOTED-PRINTABLE:Bioabfälle ist eine Regelabfuhr, eine Anmeldung ist nicht erforderlich.
DTSTART:20260606
DTEND:20260607
END:VEVENT
BEGIN:VEVENT
UID:58178625-8624-4515-5451-000000009284
SUMMARY:Bioabfälle
DESCRIPTION;ENCODING=QUOTED-PRINTABLE:Bioabfälle ist eine Regelabfuhr, eine Anmeldung ist nicht erforderlich.
DTSTART:20260612
DTEND:20260613
END:VEVENT
BEGIN:VEVENT
UID:58178625-8624-4515-5451-000000009285
SUMMARY:Bioabfälle
DESCRIPTION;ENCODING=QUOTED-PRINTABLE:Bioabfälle ist eine Regelabfuhr, eine Anmeldung ist nicht erforderlich.
DTSTART:20260619
DTEND:20260620
END:VEVENT
BEGIN:VEVENT
UID:58178625-8624-4515-5451-000000009286
SUMMARY:Bioabfälle
DESCRIPTION;ENCODING=QUOTED-PRINTABLE:Bioabfälle ist eine Regelabfuhr, eine Anmeldung ist nicht erforderlich.
DTSTART:20260626
DTEND:20260627
END:VEVENT
BEGIN:VEVENT
UID:58178625-8624-4515-5451-000000009287
SUMMARY:Bioabfälle
DESCRIPTION;ENCODING=QUOTED-PRINTABLE:Bioabfälle ist eine Regelabfuhr, eine Anmeldung ist nicht erforderlich.
DTSTART:20260703
DTEND:20260704
END:VEVENT
BEGIN:VEVENT
UID:58178625-8624-4515-5451-000000009288
SUMMARY:Bioabfälle
DESCRIPTION;ENCODING=QUOTED-PRINTABLE:Bioabfälle ist eine Regelabfuhr, eine Anmeldung ist nicht erforderlich.
DTSTART:20260710
DTEND:20260711
END:VEVENT
BEGIN:VEVENT
UID:58178625-8624-4515-5451-000000009289
SUMMARY:Bioabfälle
DESCRIPTION;ENCODING=QUOTED-PRINTABLE:Bioabfälle ist eine Regelabfuhr, eine Anmeldung ist nicht erforderlich.
DTSTART:20260717
DTEND:20260718
END:VEVENT
BEGIN:VEVENT
UID:58178625-8624-4515-5451-000000009290
SUMMARY:Bioabfälle
DESCRIPTION;ENCODING=QUOTED-PRINTABLE:Bioabfälle ist eine Regelabfuhr, eine Anmeldung ist nicht erforderlich.
DTSTART:20260724
DTEND:20260725
END:VEVENT
BEGIN:VEVENT
UID:58178625-8624-4515-5451-000000009291
SUMMARY:Bioabfälle
DESCRIPTION;ENCODING=QUOTED-PRINTABLE:Bioabfälle ist eine Regelabfuhr, eine Anmeldung ist nicht erforderlich.
DTSTART:20260731
DTEND:20260801
END:VEVENT
BEGIN:VEVENT
UID:58178625-8624-4515-5451-000000009292
SUMMARY:Bioabfälle
DESCRIPTION;ENCODING=QUOTED-PRINTABLE:Bioabfälle ist eine Regelabfuhr, eine Anmeldung ist nicht erforderlich.
DTSTART:20260807
DTEND:20260808
END:VEVENT
BEGIN:VEVENT
UID:58178625-8624-4515-5451-000000009293
SUMMARY:Bioabfälle
DESCRIPTION;ENCODING=QUOTED-PRINTABLE:Bioabfälle ist eine Regelabfuhr, eine Anmeldung ist nicht erforderlich.
DTSTART:20260814
DTEND:20260815
END:VEVENT
BEGIN:VEVENT
UID:58178625-8624-4515-5451-000000009294
SUMMARY:Bioabfälle
DESCRIPTION;ENCODING=QUOTED-PRINTABLE:Bioabfälle ist eine Regelabfuhr, eine Anmeldung ist nicht erforderlich.
DTSTART:20260821
DTEND:20260822
END:VEVENT
BEGIN:VEVENT
UID:58178625-8624-4515-5451-000000009295
SUMMARY:Bioabfälle
DESCRIPTION;ENCODING=QUOTED-PRINTABLE:Bioabfälle ist eine Regelabfuhr, eine Anmeldung ist nicht erforderlich.
DTSTART:20260828
DTEND:20260829
END:VEVENT
BEGIN:VEVENT
UID:58178625-8624-4515-5451-000000009296
SUMMARY:Bioabfälle
DESCRIPTION;ENCODING=QUOTED-PRINTABLE:Bioabfälle ist eine Regelabfuhr, eine Anmeldung ist nicht erforderlich.
DTSTART:20260904
DTEND:20260905
END:VEVENT
BEGIN:VEVENT
UID:58178625-8624-4515-5451-000000009297
SUMMARY:Bioabfälle
DESCRIPTION;ENCODING=QUOTED-PRINTABLE:Bioabfälle ist eine Regelabfuhr, eine Anmeldung ist nicht erforderlich.
DTSTART:20260911
DTEND:20260912
END:VEVENT
BEGIN:VEVENT
UID:58178625-8624-4515-5451-000000009298
SUMMARY:Bioabfälle
DESCRIPTION;ENCODING=QUOTED-PRINTABLE:Bioabfälle ist eine Regelabfuhr, eine Anmeldung ist nicht erforderlich.
DTSTART:20260918
DTEND:20260919
END:VEVENT
BEGIN:VEVENT
UID:58178625-8624-4515-5451-000000009299
SUMMARY:Bioabfälle
DESCRIPTION;ENCODING=QUOTED-PRINTABLE:Bioabfälle ist eine Regelabfuhr, eine Anmeldung ist nicht erforderlich.
DTSTART:20260925
DTEND:20260926
END:VEVENT
BEGIN:VEVENT
UID:58178625-8624-4515-5451-000000009300
SUMMARY:Bioabfälle
DESCRIPTION;ENCODING=QUOTED-PRINTABLE:Bioabfälle ist eine Regelabfuhr, eine Anmeldung ist nicht erforderlich.
DTSTART:20261002
DTEND:20261003
END:VEVENT
BEGIN:VEVENT
UID:58178625-8624-4515-5451-000000009301
SUMMARY:Bioabfälle
DESCRIPTION;ENCODING=QUOTED-PRINTABLE:Bioabfälle ist eine Regelabfuhr, eine Anmeldung ist nicht erforderlich.
DTSTART:20261009
DTEND:20261010
END:VEVENT
BEGIN:VEVENT
UID:58178625-8624-4515-5451-000000009302
SUMMARY:Bioabfälle
DESCRIPTION;ENCODING=QUOTED-PRINTABLE:Bioabfälle ist eine Regelabfuhr, eine Anmeldung ist nicht erforderlich.
DTSTART:20261023
DTEND:20261024
END:VEVENT
BEGIN:VEVENT
UID:58178625-8624-4515-5451-000000009303
SUMMARY:Bioabfälle
DESCRIPTION;ENCODING=QUOTED-PRINTABLE:Bioabfälle ist eine Regelabfuhr, eine Anmeldung ist nicht erforderlich.
DTSTART:20261106
DTEND:20261107
END:VEVENT
BEGIN:VEVENT
UID:58178625-8624-4515-5451-000000009304
SUMMARY:Bioabfälle
DESCRIPTION;ENCODING=QUOTED-PRINTABLE:Bioabfälle ist eine Regelabfuhr, eine Anmeldung ist nicht erforderlich.
DTSTART:20261120
DTEND:20261121
END:VEVENT
BEGIN:VEVENT
UID:58178625-8624-4515-5451-000000009305
SUMMARY:Bioabfälle
DESCRIPTION;ENCODING=QUOTED-PRINTABLE:Bioabfälle ist eine Regelabfuhr, eine Anmeldung ist nicht erforderlich.
DTSTART:20261204
DTEND:20261205
END:VEVENT
BEGIN:VEVENT
UID:58178625-8624-4515-5451-000000009306
SUMMARY:Bioabfälle
DESCRIPTION;ENCODING=QUOTED-PRINTABLE:Bioabfälle ist eine Regelabfuhr, eine Anmeldung ist nicht erforderlich.
DTSTART:20261218
DTEND:20261219
END:VEVENT
BEGIN:VEVENT
UID:58178625-8624-4515-5451-000000009253
SUMMARY:gelbe Tonne/Sack
DESCRIPTION;ENCODING=QUOTED-PRINTABLE:gelbe Tonne/Sack ist eine Regelabfuhr, eine Anmeldung ist nicht erforderlich.
DTSTART:20260505
DTEND:20260506
END:VEVENT
BEGIN:VEVENT
UID:58178625-8624-4515-5451-000000009254
SUMMARY:gelbe Tonne/Sack
DESCRIPTION;ENCODING=QUOTED-PRINTABLE:gelbe Tonne/Sack ist eine Regelabfuhr, eine Anmeldung ist nicht erforderlich.
DTSTART:20260519
DTEND:20260520
END:VEVENT
BEGIN:VEVENT
UID:58178625-8624-4515-5451-000000009255
SUMMARY:gelbe Tonne/Sack
DESCRIPTION;ENCODING=QUOTED-PRINTABLE:gelbe Tonne/Sack ist eine Regelabfuhr, eine Anmeldung ist nicht erforderlich.
DTSTART:20260602
DTEND:20260603
END:VEVENT
BEGIN:VEVENT
UID:58178625-8624-4515-5451-000000009256
SUMMARY:gelbe Tonne/Sack
DESCRIPTION;ENCODING=QUOTED-PRINTABLE:gelbe Tonne/Sack ist eine Regelabfuhr, eine Anmeldung ist nicht erforderlich.
DTSTART:20260616
DTEND:20260617
END:VEVENT
BEGIN:VEVENT
UID:58178625-8624-4515-5451-000000009257
SUMMARY:gelbe Tonne/Sack
DESCRIPTION;ENCODING=QUOTED-PRINTABLE:gelbe Tonne/Sack ist eine Regelabfuhr, eine Anmeldung ist nicht erforderlich.
DTSTART:20260630
DTEND:20260701
END:VEVENT
BEGIN:VEVENT
UID:58178625-8624-4515-5451-000000009258
SUMMARY:gelbe Tonne/Sack
DESCRIPTION;ENCODING=QUOTED-PRINTABLE:gelbe Tonne/Sack ist eine Regelabfuhr, eine Anmeldung ist nicht erforderlich.
DTSTART:20260714
DTEND:20260715
END:VEVENT
BEGIN:VEVENT
UID:58178625-8624-4515-5451-000000009259
SUMMARY:gelbe Tonne/Sack
DESCRIPTION;ENCODING=QUOTED-PRINTABLE:gelbe Tonne/Sack ist eine Regelabfuhr, eine Anmeldung ist nicht erforderlich.
DTSTART:20260728
DTEND:20260729
END:VEVENT
BEGIN:VEVENT
UID:58178625-8624-4515-5451-000000009260
SUMMARY:gelbe Tonne/Sack
DESCRIPTION;ENCODING=QUOTED-PRINTABLE:gelbe Tonne/Sack ist eine Regelabfuhr, eine Anmeldung ist nicht erforderlich.
DTSTART:20260811
DTEND:20260812
END:VEVENT
BEGIN:VEVENT
UID:58178625-8624-4515-5451-000000009261
SUMMARY:gelbe Tonne/Sack
DESCRIPTION;ENCODING=QUOTED-PRINTABLE:gelbe Tonne/Sack ist eine Regelabfuhr, eine Anmeldung ist nicht erforderlich.
DTSTART:20260825
DTEND:20260826
END:VEVENT
BEGIN:VEVENT
UID:58178625-8624-4515-5451-000000009262
SUMMARY:gelbe Tonne/Sack
DESCRIPTION;ENCODING=QUOTED-PRINTABLE:gelbe Tonne/Sack ist eine Regelabfuhr, eine Anmeldung ist nicht erforderlich.
DTSTART:20260908
DTEND:20260909
END:VEVENT
BEGIN:VEVENT
UID:58178625-8624-4515-5451-000000009263
SUMMARY:gelbe Tonne/Sack
DESCRIPTION;ENCODING=QUOTED-PRINTABLE:gelbe Tonne/Sack ist eine Regelabfuhr, eine Anmeldung ist nicht erforderlich.
DTSTART:20260922
DTEND:20260923
END:VEVENT
BEGIN:VEVENT
UID:58178625-8624-4515-5451-000000009264
SUMMARY:gelbe Tonne/Sack
DESCRIPTION;ENCODING=QUOTED-PRINTABLE:gelbe Tonne/Sack ist eine Regelabfuhr, eine Anmeldung ist nicht erforderlich.
DTSTART:20261006
DTEND:20261007
END:VEVENT
BEGIN:VEVENT
UID:58178625-8624-4515-5451-000000009265
SUMMARY:gelbe Tonne/Sack
DESCRIPTION;ENCODING=QUOTED-PRINTABLE:gelbe Tonne/Sack ist eine Regelabfuhr, eine Anmeldung ist nicht erforderlich.
DTSTART:20261020
DTEND:20261021
END:VEVENT
BEGIN:VEVENT
UID:58178625-8624-4515-5451-000000009266
SUMMARY:gelbe Tonne/Sack
DESCRIPTION;ENCODING=QUOTED-PRINTABLE:gelbe Tonne/Sack ist eine Regelabfuhr, eine Anmeldung ist nicht erforderlich.
DTSTART:20261103
DTEND:20261104
END:VEVENT
BEGIN:VEVENT
UID:58178625-8624-4515-5451-000000009267
SUMMARY:gelbe Tonne/Sack
DESCRIPTION;ENCODING=QUOTED-PRINTABLE:gelbe Tonne/Sack ist eine Regelabfuhr, eine Anmeldung ist nicht erforderlich.
DTSTART:20261117
DTEND:20261118
END:VEVENT
BEGIN:VEVENT
UID:58178625-8624-4515-5451-000000009268
SUMMARY:gelbe Tonne/Sack
DESCRIPTION;ENCODING=QUOTED-PRINTABLE:gelbe Tonne/Sack ist eine Regelabfuhr, eine Anmeldung ist nicht erforderlich.
DTSTART:20261201
DTEND:20261202
END:VEVENT
BEGIN:VEVENT
UID:58178625-8624-4515-5451-000000009269
SUMMARY:gelbe Tonne/Sack
DESCRIPTION;ENCODING=QUOTED-PRINTABLE:gelbe Tonne/Sack ist eine Regelabfuhr, eine Anmeldung ist nicht erforderlich.
DTSTART:20261215
DTEND:20261216
END:VEVENT
BEGIN:VEVENT
UID:58178625-8624-4515-5451-000000009270
SUMMARY:gelbe Tonne/Sack
DESCRIPTION;ENCODING=QUOTED-PRINTABLE:gelbe Tonne/Sack ist eine Regelabfuhr, eine Anmeldung ist nicht erforderlich.
DTSTART:20261229
DTEND:20261230
END:VEVENT
END:VCALENDAR
