BEGIN:VCALENDAR
VERSION:2.0
BEGIN:VEVENT
UID:58178625-8624-4515-5451-000000009074
SUMMARY:Schadstoffe (Bringsystem)
DESCRIPTION;ENCODING=QUOTED-PRINTABLE:Schadstoffe (Bringsystem) ist eine Regelabfuhr, eine Anmeldung ist nicht erforderlich.
DTSTART:20260504
DTEND:20260505
END:VEVENT
BEGIN:VEVENT
UID:58178625-8624-4515-5451-000000009075
SUMMARY:Schadstoffe (Bringsystem)
DESCRIPTION;ENCODING=QUOTED-PRINTABLE:Schadstoffe (Bringsystem) ist eine Regelabfuhr, eine Anmeldung ist nicht erforderlich.
DTSTART:20260720
DTEND:20260721
END:VEVENT
BEGIN:VEVENT
UID:58178625-8624-4515-5451-000000009076
SUMMARY:Schadstoffe (Bringsystem)
DESCRIPTION;ENCODING=QUOTED-PRINTABLE:Schadstoffe (Bringsystem) ist eine Regelabfuhr, eine Anmeldung ist nicht erforderlich.
DTSTART:20260831
DTEND:20260901
END:VEVENT
BEGIN:VEVENT
UID:58178625-8624-4515-5451-000000009077
SUMMARY:Schadstoffe (Bringsystem)
DESCRIPTION;ENCODING=QUOTED-PRINTABLE:Schadstoffe (Bringsystem) ist eine Regelabfuhr, eine Anmeldung ist nicht erforderlich.
DTSTART:20261102
DTEND:20261103
END:VEVENT
BEGIN:VEVENT
UID:58178625-8624-4515-5451-000000009005
SUMMARY:Bioabfälle
DESCRIPTION;ENCODING=QUOTED-PRINTABLE:Bioabfälle ist eine Regelabfuhr, eine Anmeldung ist nicht erforderlich.
DTSTART:20260422
DTEND:20260423
END:VEVENT
BEGIN:VEVENT
UID:58178625-8624-4515-5451-000000009006
SUMMARY:Bioabfälle
DESCRIPTION;ENCODING=QUOTED-PRINTABLE:Bioabfälle ist eine Regelabfuhr, eine Anmeldung ist nicht erforderlich.
DTSTART:20260506
DTEND:20260507
END:VEVENT
BEGIN:VEVENT
UID:58178625-8624-4515-5451-000000009007
SUMMARY:Bioabfälle
DESCRIPTION;ENCODING=QUOTED-PRINTABLE:Bioabfälle ist eine Regelabfuhr, eine Anmeldung ist nicht erforderlich.
DTSTART:20260513
DTEND:20260514
END:VEVENT
BEGIN:VEVENT
UID:58178625-8624-4515-5451-000000009008
SUMMARY:Bioabfälle
DESCRIPTION;ENCODING=QUOTED-PRINTABLE:Bioabfälle ist eine Regelabfuhr, eine Anmeldung ist nicht erforderlich.
DTSTART:20260520
DTEND:20260521
END:VEVENT
BEGIN:VEVENT
UID:58178625-8624-4515-5451-000000009009
SUMMARY:Bioabfälle
DESCRIPTION;ENCODING=QUOTED-PRINTABLE:Bioabfälle ist eine Regelabfuhr, eine Anmeldung ist nicht erforderlich.
DTSTART:20260528
DTEND:20260529
END:VEVENT
BEGIN:VEVENT
UID:58178625-8624-4515-5451-000000009010
SUMMARY:Bioabfälle
DESCRIPTION;ENCODING=QUOTED-PRINTABLE:Bioabfälle ist eine Regelabfuhr, eine Anmeldung ist nicht erforderlich.
DTSTART:20260603
DTEND:20260604
END:VEVENT
BEGIN:VEVENT
UID:58178625-8624-4515-5451-000000009011
SUMMARY:Bioabfälle
DESCRIPTION;ENCODING=QUOTED-PRINTABLE:Bioabfälle ist eine Regelabfuhr, eine Anmeldung ist nicht erforderlich.
DTSTART:20260610
DTEND:20260611
END:VEVENT
BEGIN:VEVENT
UID:58178625-8624-4515-5451-000000009012
SUMMARY:Bioabfälle
DESCRIPTION;ENCODING=QUOTED-PRINTABLE:Bioabfälle ist eine Regelabfuhr, eine Anmeldung ist nicht erforderlich.
DTSTART:20260617
DTEND:20260618
END:VEVENT
BEGIN:VEVENT
UID:58178625-8624-4515-5451-000000009013
SUMMARY:Bioabfälle
DESCRIPTION;ENCODING=QUOTED-PRINTABLE:Bioabfälle ist eine Regelabfuhr, eine Anmeldung ist nicht erforderlich.
DTSTART:20260624
DTEND:20260625
END:VEVENT
BEGIN:VEVENT
UID:58178625-8624-4515-5451-000000009014
SUMMARY:Bioabfälle
DESCRIPTION;ENCODING=QUOTED-PRINTABLE:Bioabfälle ist eine Regelabfuhr, eine Anmeldung ist nicht erforderlich.
DTSTART:20260701
DTEND:20260702
END:VEVENT
BEGIN:VEVENT
UID:58178625-8624-4515-5451-000000009015
SUMMARY:Bioabfälle
DESCRIPTION;ENCODING=QUOTED-PRINTABLE:Bioabfälle ist eine Regelabfuhr, eine Anmeldung ist nicht erforderlich.
DTSTART:20260708
DTEND:20260709
END:VEVENT
BEGIN:VEVENT
UID:58178625-8624-4515-5451-000000009016
SUMMARY:Bioabfälle
DESCRIPTION;ENCODING=QUOTED-PRINTABLE:Bioabfälle ist eine Regelabfuhr, eine Anmeldung ist nicht erforderlich.
DTSTART:20260715
DTEND:20260716
END:VEVENT
BEGIN:VEVENT
UID:58178625-8624-4515-5451-000000009017
SUMMARY:Bioabfälle
DESCRIPTION;ENCODING=QUOTED-PRINTABLE:Bioabfälle ist eine Regelabfuhr, eine Anmeldung ist nicht erforderlich.
DTSTART:20260722
DTEND:20260723
END:VEVENT
BEGIN:VEVENT
UID:58178625-8624-4515-5451-000000009018
SUMMARY:Bioabfälle
DESCRIPTION;ENCODING=QUOTED-PRINTABLE:Bioabfälle ist eine Regelabfuhr, eine Anmeldung ist nicht erforderlich.
DTSTART:20260729
DTEND:20260730
END:VEVENT
BEGIN:VEVENT
UID:58178625-8624-4515-5451-000000009019
SUMMARY:Bioabfälle
DESCRIPTION;ENCODING=QUOTED-PRINTABLE:Bioabfälle ist eine Regelabfuhr, eine Anmeldung ist nicht erforderlich.
DTSTART:20260805
DTEND:20260806
END:VEVENT
BEGIN:VEVENT
UID:58178625-8624-4515-5451-000000009020
SUMMARY:Bioabfälle
DESCRIPTION;ENCODING=QUOTED-PRINTABLE:Bioabfälle ist eine Regelabfuhr, eine Anmeldung ist nicht erforderlich.
DTSTART:20260812
DTEND:20260813
END:VEVENT
BEGIN:VEVENT
UID:58178625-8624-4515-5451-000000009021
SUMMARY:Bioabfälle
DESCRIPTION;ENCODING=QUOTED-PRINTABLE:Bioabfälle ist eine Regelabfuhr, eine Anmeldung ist nicht erforderlich.
DTSTART:20260819
DTEND:20260820
END:VEVENT
BEGIN:VEVENT
UID:58178625-8624-4515-5451-000000009022
SUMMARY:Bioabfälle
DESCRIPTION;ENCODING=QUOTED-PRINTABLE:Bioabfälle ist eine Regelabfuhr, eine Anmeldung ist nicht erforderlich.
DTSTART:20260826
DTEND:20260827
END:VEVENT
BEGIN:VEVENT
UID:58178625-8624-4515-5451-000000009023
SUMMARY:Bioabfälle
DESCRIPTION;ENCODING=QUOTED-PRINTABLE:Bioabfälle ist eine Regelabfuhr, eine Anmeldung ist nicht erforderlich.
DTSTART:20260902
DTEND:20260903
END:VEVENT
BEGIN:VEVENT
UID:58178625-8624-4515-5451-000000009024
SUMMARY:Bioabfälle
DESCRIPTION;ENCODING=QUOTED-PRINTABLE:Bioabfälle ist eine Regelabfuhr, eine Anmeldung ist nicht erforderlich.
DTSTART:20260909
DTEND:20260910
END:VEVENT
BEGIN:VEVENT
UID:58178625-8624-4515-5451-000000009025
SUMMARY:Bioabfälle
DESCRIPTION;ENCODING=QUOTED-PRINTABLE:Bioabfälle ist eine Regelabfuhr, eine Anmeldung ist nicht erforderlich.
DTSTART:20260916
DTEND:20260917
END:VEVENT
BEGIN:VEVENT
UID:58178625-8624-4515-5451-000000009026
SUMMARY:Bioabfälle
DESCRIPTION;ENCODING=QUOTED-PRINTABLE:Bioabfälle ist eine Regelabfuhr, eine Anmeldung ist nicht erforderlich.
DTSTART:20260923
DTEND:20260924
END:VEVENT
BEGIN:VEVENT
UID:58178625-8624-4515-5451-000000009027
SUMMARY:Bioabfälle
DESCRIPTION;ENCODING=QUOTED-PRINTABLE:Bioabfälle ist eine Regelabfuhr, eine Anmeldung ist nicht erforderlich.
DTSTART:20260930
DTEND:20261001
END:VEVENT
BEGIN:VEVENT
UID:58178625-8624-4515-5451-000000009028
SUMMARY:Bioabfälle
DESCRIPTION;ENCODING=QUOTED-PRINTABLE:Bioabfälle ist eine Regelabfuhr, eine Anmeldung ist nicht erforderlich.
DTSTART:20261007
DTEND:20261008
END:VEVENT
BEGIN:VEVENT
UID:58178625-8624-4515-5451-000000009029
SUMMARY:Bioabfälle
DESCRIPTION;ENCODING=QUOTED-PRINTABLE:Bioabfälle ist eine Regelabfuhr, eine Anmeldung ist nicht erforderlich.
DTSTART:20261021
DTEND:20261022
END:VEVENT
BEGIN:VEVENT
UID:58178625-8624-4515-5451-000000009030
SUMMARY:Bioabfälle
DESCRIPTION;ENCODING=QUOTED-PRINTABLE:Bioabfälle ist eine Regelabfuhr, eine Anmeldung ist nicht erforderlich.
DTSTART:20261104
DTEND:20261105
END:VEVENT
BEGIN:VEVENT
UID:58178625-8624-4515-5451-000000009031
SUMMARY:Bioabfälle
DESCRIPTION;ENCODING=QUOTED-PRINTABLE:Bioabfälle ist eine Regelabfuhr, eine Anmeldung ist nicht erforderlich.
DTSTART:20261118
DTEND:20261119
END:VEVENT
BEGIN:VEVENT
UID:58178625-8624-4515-5451-000000009032
SUMMARY:Bioabfälle
DESCRIPTION;ENCODING=QUOTED-PRINTABLE:Bioabfälle ist eine Regelabfuhr, eine Anmeldung ist nicht erforderlich.
DTSTART:20261202
DTEND:20261203
END:VEVENT
BEGIN:VEVENT
UID:58178625-8624-4515-5451-000000009033
SUMMARY:Bioabfälle
DESCRIPTION;ENCODING=QUOTED-PRINTABLE:Bioabfälle ist eine Regelabfuhr, eine Anmeldung ist nicht erforderlich.
DTSTART:20261216
DTEND:20261217
END:VEVENT
BEGIN:VEVENT
UID:58178625-8624-4515-5451-000000009034
SUMMARY:Bioabfälle
DESCRIPTION;ENCODING=QUOTED-PRINTABLE:Bioabfälle ist eine Regelabfuhr, eine Anmeldung ist nicht erforderlich.
DTSTART:20261230
DTEND:20261231
END:VEVENT
BEGIN:VEVENT
UID:58178625-8624-4515-5451-000000009350
SUMMARY:Reststoffe
DESCRIPTION;ENCODING=QUOTED-PRINTABLE:Reststoffe ist eine Regelabfuhr, eine Anmeldung ist nicht erforderlich.
DTSTART:20260511
DTEND:20260512
END:VEVENT
BEGIN:VEVENT
UID:58178625-8624-4515-5451-000000009351
SUMMARY:Reststoffe
DESCRIPTION;ENCODING=QUOTED-PRINTABLE:Reststoffe ist eine Regelabfuhr, eine Anmeldung ist nicht erforderlich.
DTSTART:20260608
DTEND:20260609
END:VEVENT
BEGIN:VEVENT
UID:58178625-8624-4515-5451-000000009352
SUMMARY:Reststoffe
DESCRIPTION;ENCODING=QUOTED-PRINTABLE:Reststoffe ist eine Regelabfuhr, eine Anmeldung ist nicht erforderlich.
DTSTART:20260706
DTEND:20260707
END:VEVENT
BEGIN:VEVENT
UID:58178625-8624-4515-5451-000000009353
SUMMARY:Reststoffe
DESCRIPTION;ENCODING=QUOTED-PRINTABLE:Reststoffe ist eine Regelabfuhr, eine Anmeldung ist nicht erforderlich.
DTSTART:20260803
DTEND:20260804
END:VEVENT
BEGIN:VEVENT
UID:58178625-8624-4515-5451-000000009354
SUMMARY:Reststoffe
DESCRIPTION;ENCODING=QUOTED-PRINTABLE:Reststoffe ist eine Regelabfuhr, eine Anmeldung ist nicht erforderlich.
DTSTART:20260831
DTEND:20260901
END:VEVENT
BEGIN:VEVENT
UID:58178625-8624-4515-5451-000000009355
SUMMARY:Reststoffe
DESCRIPTION;ENCODING=QUOTED-PRINTABLE:Reststoffe ist eine Regelabfuhr, eine Anmeldung ist nicht erforderlich.
DTSTART:20260928
DTEND:20260929
END:VEVENT
BEGIN:VEVENT
UID:58178625-8624-4515-5451-000000009356
SUMMARY:Reststoffe
DESCRIPTION;ENCODING=QUOTED-PRINTABLE:Reststoffe ist eine Regelabfuhr, eine Anmeldung ist nicht erforderlich.
DTSTART:20261026
DTEND:20261027
END:VEVENT
BEGIN:VEVENT
UID:58178625-8624-4515-5451-000000009357
SUMMARY:Reststoffe
DESCRIPTION;ENCODING=QUOTED-PRINTABLE:Reststoffe ist eine Regelabfuhr, eine Anmeldung ist nicht erforderlich.
DTSTART:20261123
DTEND:20261124
END:VEVENT
BEGIN:VEVENT
UID:58178625-8624-4515-5451-000000009358
SUMMARY:Reststoffe
DESCRIPTION;ENCODING=QUOTED-PRINTABLE:Reststoffe ist eine Regelabfuhr, eine Anmeldung ist nicht erforderlich.
DTSTART:20261221
DTEND:20261222
END:VEVENT
BEGIN:VEVENT
UID:58178625-8624-4515-5451-000000008854
SUMMARY:gelbe Tonne/Sack
DESCRIPTION;ENCODING=QUOTED-PRINTABLE:gelbe Tonne/Sack ist eine Regelabfuhr, eine Anmeldung ist nicht erforderlich.
DTSTART:20260422
DTEND:20260423
END:VEVENT
BEGIN:VEVENT
UID:58178625-8624-4515-5451-000000008855
SUMMARY:gelbe Tonne/Sack
DESCRIPTION;ENCODING=QUOTED-PRINTABLE:gelbe Tonne/Sack ist eine Regelabfuhr, eine Anmeldung ist nicht erforderlich.
DTSTART:20260506
DTEND:20260507
END:VEVENT
BEGIN:VEVENT
UID:58178625-8624-4515-5451-000000008856
SUMMARY:gelbe Tonne/Sack
DESCRIPTION;ENCODING=QUOTED-PRINTABLE:gelbe Tonne/Sack ist eine Regelabfuhr, eine Anmeldung ist nicht erforderlich.
DTSTART:20260520
DTEND:20260521
END:VEVENT
BEGIN:VEVENT
UID:58178625-8624-4515-5451-000000008857
SUMMARY:gelbe Tonne/Sack
DESCRIPTION;ENCODING=QUOTED-PRINTABLE:gelbe Tonne/Sack ist eine Regelabfuhr, eine Anmeldung ist nicht erforderlich.
DTSTART:20260603
DTEND:20260604
END:VEVENT
BEGIN:VEVENT
UID:58178625-8624-4515-5451-000000008858
SUMMARY:gelbe Tonne/Sack
DESCRIPTION;ENCODING=QUOTED-PRINTABLE:gelbe Tonne/Sack ist eine Regelabfuhr, eine Anmeldung ist nicht erforderlich.
DTSTART:20260617
DTEND:20260618
END:VEVENT
BEGIN:VEVENT
UID:58178625-8624-4515-5451-000000008859
SUMMARY:gelbe Tonne/Sack
DESCRIPTION;ENCODING=QUOTED-PRINTABLE:gelbe Tonne/Sack ist eine Regelabfuhr, eine Anmeldung ist nicht erforderlich.
DTSTART:20260701
DTEND:20260702
END:VEVENT
BEGIN:VEVENT
UID:58178625-8624-4515-5451-000000008860
SUMMARY:gelbe Tonne/Sack
DESCRIPTION;ENCODING=QUOTED-PRINTABLE:gelbe Tonne/Sack ist eine Regelabfuhr, eine Anmeldung ist nicht erforderlich.
DTSTART:20260715
DTEND:20260716
END:VEVENT
BEGIN:VEVENT
UID:58178625-8624-4515-5451-000000008861
SUMMARY:gelbe Tonne/Sack
DESCRIPTION;ENCODING=QUOTED-PRINTABLE:gelbe Tonne/Sack ist eine Regelabfuhr, eine Anmeldung ist nicht erforderlich.
DTSTART:20260729
DTEND:20260730
END:VEVENT
BEGIN:VEVENT
UID:58178625-8624-4515-5451-000000008862
SUMMARY:gelbe Tonne/Sack
DESCRIPTION;ENCODING=QUOTED-PRINTABLE:gelbe Tonne/Sack ist eine Regelabfuhr, eine Anmeldung ist nicht erforderlich.
DTSTART:20260812
DTEND:20260813
END:VEVENT
BEGIN:VEVENT
UID:58178625-8624-4515-5451-000000008863
SUMMARY:gelbe Tonne/Sack
DESCRIPTION;ENCODING=QUOTED-PRINTABLE:gelbe Tonne/Sack ist eine Regelabfuhr, eine Anmeldung ist nicht erforderlich.
DTSTART:20260826
DTEND:20260827
END:VEVENT
BEGIN:VEVENT
UID:58178625-8624-4515-5451-000000008864
SUMMARY:gelbe Tonne/Sack
DESCRIPTION;ENCODING=QUOTED-PRINTABLE:gelbe Tonne/Sack ist eine Regelabfuhr, eine Anmeldung ist nicht erforderlich.
DTSTART:20260909
DTEND:20260910
END:VEVENT
BEGIN:VEVENT
UID:58178625-8624-4515-5451-000000008865
SUMMARY:gelbe Tonne/Sack
DESCRIPTION;ENCODING=QUOTED-PRINTABLE:gelbe Tonne/Sack ist eine Regelabfuhr, eine Anmeldung ist nicht erforderlich.
DTSTART:20260923
DTEND:20260924
END:VEVENT
BEGIN:VEVENT
UID:58178625-8624-4515-5451-000000008866
SUMMARY:gelbe Tonne/Sack
DESCRIPTION;ENCODING=QUOTED-PRINTABLE:gelbe Tonne/Sack ist eine Regelabfuhr, eine Anmeldung ist nicht erforderlich.
DTSTART:20261007
DTEND:20261008
END:VEVENT
BEGIN:VEVENT
UID:58178625-8624-4515-5451-000000008867
SUMMARY:gelbe Tonne/Sack
DESCRIPTION;ENCODING=QUOTED-PRINTABLE:gelbe Tonne/Sack ist eine Regelabfuhr, eine Anmeldung ist nicht erforderlich.
DTSTART:20261021
DTEND:20261022
END:VEVENT
BEGIN:VEVENT
UID:58178625-8624-4515-5451-000000008868
SUMMARY:gelbe Tonne/Sack
DESCRIPTION;ENCODING=QUOTED-PRINTABLE:gelbe Tonne/Sack ist eine Regelabfuhr, eine Anmeldung ist nicht erforderlich.
DTSTART:20261104
DTEND:20261105
END:VEVENT
BEGIN:VEVENT
UID:58178625-8624-4515-5451-000000008869
SUMMARY:gelbe Tonne/Sack
DESCRIPTION;ENCODING=QUOTED-PRINTABLE:gelbe Tonne/Sack ist eine Regelabfuhr, eine Anmeldung ist nicht erforderlich.
DTSTART:20261118
DTEND:20261119
END:VEVENT
BEGIN:VEVENT
UID:58178625-8624-4515-5451-000000008870
SUMMARY:gelbe Tonne/Sack
DESCRIPTION;ENCODING=QUOTED-PRINTABLE:gelbe Tonne/Sack ist eine Regelabfuhr, eine Anmeldung ist nicht erforderlich.
DTSTART:20261202
DTEND:20261203
END:VEVENT
BEGIN:VEVENT
UID:58178625-8624-4515-5451-000000008871
SUMMARY:gelbe Tonne/Sack
DESCRIPTION;ENCODING=QUOTED-PRINTABLE:gelbe Tonne/Sack ist eine Regelabfuhr, eine Anmeldung ist nicht erforderlich.
DTSTART:20261216
DTEND:20261217
END:VEVENT
BEGIN:VEVENT
UID:58178625-8624-4515-5451-000000008872
SUMMARY:gelbe Tonne/Sack
DESCRIPTION;ENCODING=QUOTED-PRINTABLE:gelbe Tonne/Sack ist eine Regelabfuhr, eine Anmeldung ist nicht erforderlich.
DTSTART:20261230
DTEND:20261231
END:VEVENT
BEGIN:VEVENT
UID:58178625-8624-4515-5451-000000009197
SUMMARY:Papier/Pappe
DESCRIPTION;ENCODING=QUOTED-PRINTABLE:Papier/Pappe ist eine Regelabfuhr, eine Anmeldung ist nicht erforderlich.
DTSTART:20260427
DTEND:20260428
END:VEVENT
BEGIN:VEVENT
UID:58178625-8624-4515-5451-000000009198
SUMMARY:Papier/Pappe
DESCRIPTION;ENCODING=QUOTED-PRINTABLE:Papier/Pappe ist eine Regelabfuhr, eine Anmeldung ist nicht erforderlich.
DTSTART:20260526
DTEND:20260527
END:VEVENT
BEGIN:VEVENT
UID:58178625-8624-4515-5451-000000009199
SUMMARY:Papier/Pappe
DESCRIPTION;ENCODING=QUOTED-PRINTABLE:Papier/Pappe ist eine Regelabfuhr, eine Anmeldung ist nicht erforderlich.
DTSTART:20260622
DTEND:20260623
END:VEVENT
BEGIN:VEVENT
UID:58178625-8624-4515-5451-000000009200
SUMMARY:Papier/Pappe
DESCRIPTION;ENCODING=QUOTED-PRINTABLE:Papier/Pappe ist eine Regelabfuhr, eine Anmeldung ist nicht erforderlich.
DTSTART:20260720
DTEND:20260721
END:VEVENT
BEGIN:VEVENT
UID:58178625-8624-4515-5451-000000009201
SUMMARY:Papier/Pappe
DESCRIPTION;ENCODING=QUOTED-PRINTABLE:Papier/Pappe ist eine Regelabfuhr, eine Anmeldung ist nicht erforderlich.
DTSTART:20260817
DTEND:20260818
END:VEVENT
BEGIN:VEVENT
UID:58178625-8624-4515-5451-000000009202
SUMMARY:Papier/Pappe
DESCRIPTION;ENCODING=QUOTED-PRINTABLE:Papier/Pappe ist eine Regelabfuhr, eine Anmeldung ist nicht erforderlich.
DTSTART:20260914
DTEND:20260915
END:VEVENT
BEGIN:VEVENT
UID:58178625-8624-4515-5451-000000009203
SUMMARY:Papier/Pappe
DESCRIPTION;ENCODING=QUOTED-PRINTABLE:Papier/Pappe ist eine Regelabfuhr, eine Anmeldung ist nicht erforderlich.
DTSTART:20261012
DTEND:20261013
END:VEVENT
BEGIN:VEVENT
UID:58178625-8624-4515-5451-000000009204
SUMMARY:Papier/Pappe
DESCRIPTION;ENCODING=QUOTED-PRINTABLE:Papier/Pappe ist eine Regelabfuhr, eine Anmeldung ist nicht erforderlich.
DTSTART:20261109
DTEND:20261110
END:VEVENT
BEGIN:VEVENT
UID:58178625-8624-4515-5451-000000009205
SUMMARY:Papier/Pappe
DESCRIPTION;ENCODING=QUOTED-PRINTABLE:Papier/Pappe ist eine Regelabfuhr, eine Anmeldung ist nicht erforderlich.
DTSTART:20261207
DTEND:20261208
END:VEVENT
BEGIN:VEVENT
UID:58178625-8624-4515-5451-000000008761
SUMMARY:Altholz
DESCRIPTION:Altholz ist ein anmeldepflichtiger Abfuhrtermin.\nDie Anmeldefrist für diesen Termin endet am 16.04.2026.\nAnmeldung zum Abfuhrtermin für die Straße "Am Sonnenhang" unter der URL: http://lennestadt.abfuhrtermine.info/orders/add/date_id:8761/sorting_id:32/street_id:3636
DTSTART:20260422
DTEND:20260423
END:VEVENT
BEGIN:VEVENT
UID:58178625-8624-4515-5451-000000008762
SUMMARY:Altholz
DESCRIPTION:Altholz ist ein anmeldepflichtiger Abfuhrtermin.\nDie Anmeldefrist für diesen Termin endet am 11.06.2026.\nAnmeldung zum Abfuhrtermin für die Straße "Am Sonnenhang" unter der URL: http://lennestadt.abfuhrtermine.info/orders/add/date_id:8762/sorting_id:32/street_id:3636
DTSTART:20260617
DTEND:20260618
END:VEVENT
BEGIN:VEVENT
UID:58178625-8624-4515-5451-000000008763
SUMMARY:Altholz
DESCRIPTION:Altholz ist ein anmeldepflichtiger Abfuhrtermin.\nDie Anmeldefrist für diesen Termin endet am 06.08.2026.\nAnmeldung zum Abfuhrtermin für die Straße "Am Sonnenhang" unter der URL: http://lennestadt.abfuhrtermine.info/orders/add/date_id:8763/sorting_id:32/street_id:3636
DTSTART:20260812
DTEND:20260813
END:VEVENT
BEGIN:VEVENT
UID:58178625-8624-4515-5451-000000008764
SUMMARY:Altholz
DESCRIPTION:Altholz ist ein anmeldepflichtiger Abfuhrtermin.\nDie Anmeldefrist für diesen Termin endet am 01.10.2026.\nAnmeldung zum Abfuhrtermin für die Straße "Am Sonnenhang" unter der URL: http://lennestadt.abfuhrtermine.info/orders/add/date_id:8764/sorting_id:32/street_id:3636
DTSTART:20261007
DTEND:20261008
END:VEVENT
BEGIN:VEVENT
UID:58178625-8624-4515-5451-000000008765
SUMMARY:Altholz
DESCRIPTION:Altholz ist ein anmeldepflichtiger Abfuhrtermin.\nDie Anmeldefrist für diesen Termin endet am 10.12.2026.\nAnmeldung zum Abfuhrtermin für die Straße "Am Sonnenhang" unter der URL: http://lennestadt.abfuhrtermine.info/orders/add/date_id:8765/sorting_id:32/street_id:3636
DTSTART:20261216
DTEND:20261217
END:VEVENT
BEGIN:VEVENT
UID:58178625-8624-4515-5451-000000008786
SUMMARY:Restsperrgut
DESCRIPTION:Restsperrgut ist ein anmeldepflichtiger Abfuhrtermin.\nDie Anmeldefrist für diesen Termin endet am 06.05.2026.\nAnmeldung zum Abfuhrtermin für die Straße "Am Sonnenhang" unter der URL: http://lennestadt.abfuhrtermine.info/orders/add/date_id:8786/sorting_id:33/street_id:3636
DTSTART:20260512
DTEND:20260513
END:VEVENT
BEGIN:VEVENT
UID:58178625-8624-4515-5451-000000008787
SUMMARY:Restsperrgut
DESCRIPTION:Restsperrgut ist ein anmeldepflichtiger Abfuhrtermin.\nDie Anmeldefrist für diesen Termin endet am 02.07.2026.\nAnmeldung zum Abfuhrtermin für die Straße "Am Sonnenhang" unter der URL: http://lennestadt.abfuhrtermine.info/orders/add/date_id:8787/sorting_id:33/street_id:3636
DTSTART:20260708
DTEND:20260709
END:VEVENT
BEGIN:VEVENT
UID:58178625-8624-4515-5451-000000008788
SUMMARY:Restsperrgut
DESCRIPTION:Restsperrgut ist ein anmeldepflichtiger Abfuhrtermin.\nDie Anmeldefrist für diesen Termin endet am 27.08.2026.\nAnmeldung zum Abfuhrtermin für die Straße "Am Sonnenhang" unter der URL: http://lennestadt.abfuhrtermine.info/orders/add/date_id:8788/sorting_id:33/street_id:3636
DTSTART:20260902
DTEND:20260903
END:VEVENT
BEGIN:VEVENT
UID:58178625-8624-4515-5451-000000008789
SUMMARY:Restsperrgut
DESCRIPTION:Restsperrgut ist ein anmeldepflichtiger Abfuhrtermin.\nDie Anmeldefrist für diesen Termin endet am 28.10.2026.\nAnmeldung zum Abfuhrtermin für die Straße "Am Sonnenhang" unter der URL: http://lennestadt.abfuhrtermine.info/orders/add/date_id:8789/sorting_id:33/street_id:3636
DTSTART:20261103
DTEND:20261104
END:VEVENT
BEGIN:VEVENT
UID:58178625-8624-4515-5451-000000009374
SUMMARY:Metall- und Elektroschrott
DESCRIPTION:Metall- und Elektroschrott ist ein anmeldepflichtiger Abfuhrtermin.\nDie Anmeldefrist für diesen Termin endet am 01.07.2026.\nAnmeldung zum Abfuhrtermin für die Straße "Am Sonnenhang" unter der URL: http://lennestadt.abfuhrtermine.info/orders/add/date_id:9374/sorting_id:34/street_id:3636
DTSTART:20260707
DTEND:20260708
END:VEVENT
BEGIN:VEVENT
UID:58178625-8624-4515-5451-000000009375
SUMMARY:Metall- und Elektroschrott
DESCRIPTION:Metall- und Elektroschrott ist ein anmeldepflichtiger Abfuhrtermin.\nDie Anmeldefrist für diesen Termin endet am 02.09.2026.\nAnmeldung zum Abfuhrtermin für die Straße "Am Sonnenhang" unter der URL: http://lennestadt.abfuhrtermine.info/orders/add/date_id:9375/sorting_id:34/street_id:3636
DTSTART:20260908
DTEND:20260909
END:VEVENT
BEGIN:VEVENT
UID:58178625-8624-4515-5451-000000009376
SUMMARY:Metall- und Elektroschrott
DESCRIPTION:Metall- und Elektroschrott ist ein anmeldepflichtiger Abfuhrtermin.\nDie Anmeldefrist für diesen Termin endet am 11.11.2026.\nAnmeldung zum Abfuhrtermin für die Straße "Am Sonnenhang" unter der URL: http://lennestadt.abfuhrtermine.info/orders/add/date_id:9376/sorting_id:34/street_id:3636
DTSTART:20261117
DTEND:20261118
END:VEVENT
END:VCALENDAR
