BEGIN:VCALENDAR
VERSION:2.0
BEGIN:VEVENT
UID:58178625-8624-4515-5451-000000009074
SUMMARY:Schadstoffe (Bringsystem)
DESCRIPTION;ENCODING=QUOTED-PRINTABLE:Schadstoffe (Bringsystem) ist eine Regelabfuhr, eine Anmeldung ist nicht erforderlich.
DTSTART:20260504
DTEND:20260505
END:VEVENT
BEGIN:VEVENT
UID:58178625-8624-4515-5451-000000009075
SUMMARY:Schadstoffe (Bringsystem)
DESCRIPTION;ENCODING=QUOTED-PRINTABLE:Schadstoffe (Bringsystem) ist eine Regelabfuhr, eine Anmeldung ist nicht erforderlich.
DTSTART:20260720
DTEND:20260721
END:VEVENT
BEGIN:VEVENT
UID:58178625-8624-4515-5451-000000009076
SUMMARY:Schadstoffe (Bringsystem)
DESCRIPTION;ENCODING=QUOTED-PRINTABLE:Schadstoffe (Bringsystem) ist eine Regelabfuhr, eine Anmeldung ist nicht erforderlich.
DTSTART:20260831
DTEND:20260901
END:VEVENT
BEGIN:VEVENT
UID:58178625-8624-4515-5451-000000009077
SUMMARY:Schadstoffe (Bringsystem)
DESCRIPTION;ENCODING=QUOTED-PRINTABLE:Schadstoffe (Bringsystem) ist eine Regelabfuhr, eine Anmeldung ist nicht erforderlich.
DTSTART:20261102
DTEND:20261103
END:VEVENT
BEGIN:VEVENT
UID:58178625-8624-4515-5451-000000009360
SUMMARY:Altholz
DESCRIPTION:Altholz ist ein anmeldepflichtiger Abfuhrtermin.\nDie Anmeldefrist für diesen Termin endet am 17.04.2026.\nAnmeldung zum Abfuhrtermin für die Straße "Thomas-Morus-Platz" unter der URL: http://lennestadt.abfuhrtermine.info/orders/add/date_id:9360/sorting_id:32/street_id:3830
DTSTART:20260423
DTEND:20260424
END:VEVENT
BEGIN:VEVENT
UID:58178625-8624-4515-5451-000000009361
SUMMARY:Altholz
DESCRIPTION:Altholz ist ein anmeldepflichtiger Abfuhrtermin.\nDie Anmeldefrist für diesen Termin endet am 15.06.2026.\nAnmeldung zum Abfuhrtermin für die Straße "Thomas-Morus-Platz" unter der URL: http://lennestadt.abfuhrtermine.info/orders/add/date_id:9361/sorting_id:32/street_id:3830
DTSTART:20260619
DTEND:20260620
END:VEVENT
BEGIN:VEVENT
UID:58178625-8624-4515-5451-000000009362
SUMMARY:Altholz
DESCRIPTION:Altholz ist ein anmeldepflichtiger Abfuhrtermin.\nDie Anmeldefrist für diesen Termin endet am 10.08.2026.\nAnmeldung zum Abfuhrtermin für die Straße "Thomas-Morus-Platz" unter der URL: http://lennestadt.abfuhrtermine.info/orders/add/date_id:9362/sorting_id:32/street_id:3830
DTSTART:20260814
DTEND:20260815
END:VEVENT
BEGIN:VEVENT
UID:58178625-8624-4515-5451-000000009363
SUMMARY:Altholz
DESCRIPTION:Altholz ist ein anmeldepflichtiger Abfuhrtermin.\nDie Anmeldefrist für diesen Termin endet am 05.10.2026.\nAnmeldung zum Abfuhrtermin für die Straße "Thomas-Morus-Platz" unter der URL: http://lennestadt.abfuhrtermine.info/orders/add/date_id:9363/sorting_id:32/street_id:3830
DTSTART:20261009
DTEND:20261010
END:VEVENT
BEGIN:VEVENT
UID:58178625-8624-4515-5451-000000009364
SUMMARY:Altholz
DESCRIPTION:Altholz ist ein anmeldepflichtiger Abfuhrtermin.\nDie Anmeldefrist für diesen Termin endet am 14.12.2026.\nAnmeldung zum Abfuhrtermin für die Straße "Thomas-Morus-Platz" unter der URL: http://lennestadt.abfuhrtermine.info/orders/add/date_id:9364/sorting_id:32/street_id:3830
DTSTART:20261218
DTEND:20261219
END:VEVENT
BEGIN:VEVENT
UID:58178625-8624-4515-5451-000000008774
SUMMARY:Restsperrgut
DESCRIPTION:Restsperrgut ist ein anmeldepflichtiger Abfuhrtermin.\nDie Anmeldefrist für diesen Termin endet am 07.05.2026.\nAnmeldung zum Abfuhrtermin für die Straße "Thomas-Morus-Platz" unter der URL: http://lennestadt.abfuhrtermine.info/orders/add/date_id:8774/sorting_id:33/street_id:3830
DTSTART:20260513
DTEND:20260514
END:VEVENT
BEGIN:VEVENT
UID:58178625-8624-4515-5451-000000008775
SUMMARY:Restsperrgut
DESCRIPTION:Restsperrgut ist ein anmeldepflichtiger Abfuhrtermin.\nDie Anmeldefrist für diesen Termin endet am 06.07.2026.\nAnmeldung zum Abfuhrtermin für die Straße "Thomas-Morus-Platz" unter der URL: http://lennestadt.abfuhrtermine.info/orders/add/date_id:8775/sorting_id:33/street_id:3830
DTSTART:20260710
DTEND:20260711
END:VEVENT
BEGIN:VEVENT
UID:58178625-8624-4515-5451-000000008776
SUMMARY:Restsperrgut
DESCRIPTION:Restsperrgut ist ein anmeldepflichtiger Abfuhrtermin.\nDie Anmeldefrist für diesen Termin endet am 31.08.2026.\nAnmeldung zum Abfuhrtermin für die Straße "Thomas-Morus-Platz" unter der URL: http://lennestadt.abfuhrtermine.info/orders/add/date_id:8776/sorting_id:33/street_id:3830
DTSTART:20260904
DTEND:20260905
END:VEVENT
BEGIN:VEVENT
UID:58178625-8624-4515-5451-000000008777
SUMMARY:Restsperrgut
DESCRIPTION:Restsperrgut ist ein anmeldepflichtiger Abfuhrtermin.\nDie Anmeldefrist für diesen Termin endet am 30.10.2026.\nAnmeldung zum Abfuhrtermin für die Straße "Thomas-Morus-Platz" unter der URL: http://lennestadt.abfuhrtermine.info/orders/add/date_id:8777/sorting_id:33/street_id:3830
DTSTART:20261105
DTEND:20261106
END:VEVENT
BEGIN:VEVENT
UID:58178625-8624-4515-5451-000000009385
SUMMARY:Metall- und Elektroschrott
DESCRIPTION:Metall- und Elektroschrott ist ein anmeldepflichtiger Abfuhrtermin.\nDie Anmeldefrist für diesen Termin endet am 17.04.2026.\nAnmeldung zum Abfuhrtermin für die Straße "Thomas-Morus-Platz" unter der URL: http://lennestadt.abfuhrtermine.info/orders/add/date_id:9385/sorting_id:34/street_id:3830
DTSTART:20260423
DTEND:20260424
END:VEVENT
BEGIN:VEVENT
UID:58178625-8624-4515-5451-000000009386
SUMMARY:Metall- und Elektroschrott
DESCRIPTION:Metall- und Elektroschrott ist ein anmeldepflichtiger Abfuhrtermin.\nDie Anmeldefrist für diesen Termin endet am 03.07.2026.\nAnmeldung zum Abfuhrtermin für die Straße "Thomas-Morus-Platz" unter der URL: http://lennestadt.abfuhrtermine.info/orders/add/date_id:9386/sorting_id:34/street_id:3830
DTSTART:20260709
DTEND:20260710
END:VEVENT
BEGIN:VEVENT
UID:58178625-8624-4515-5451-000000009387
SUMMARY:Metall- und Elektroschrott
DESCRIPTION:Metall- und Elektroschrott ist ein anmeldepflichtiger Abfuhrtermin.\nDie Anmeldefrist für diesen Termin endet am 04.09.2026.\nAnmeldung zum Abfuhrtermin für die Straße "Thomas-Morus-Platz" unter der URL: http://lennestadt.abfuhrtermine.info/orders/add/date_id:9387/sorting_id:34/street_id:3830
DTSTART:20260910
DTEND:20260911
END:VEVENT
BEGIN:VEVENT
UID:58178625-8624-4515-5451-000000009388
SUMMARY:Metall- und Elektroschrott
DESCRIPTION:Metall- und Elektroschrott ist ein anmeldepflichtiger Abfuhrtermin.\nDie Anmeldefrist für diesen Termin endet am 13.11.2026.\nAnmeldung zum Abfuhrtermin für die Straße "Thomas-Morus-Platz" unter der URL: http://lennestadt.abfuhrtermine.info/orders/add/date_id:9388/sorting_id:34/street_id:3830
DTSTART:20261119
DTEND:20261120
END:VEVENT
END:VCALENDAR
